BEGIN:VCALENDAR
VERSION:2.0
PRODID:-//Atlantica Centre For Energy - ECPv6.15.12.2//NONSGML v1.0//EN
CALSCALE:GREGORIAN
METHOD:PUBLISH
X-WR-CALNAME:Atlantica Centre For Energy
X-ORIGINAL-URL:https://www.atlanticaenergy.org
X-WR-CALDESC:Events for Atlantica Centre For Energy
REFRESH-INTERVAL;VALUE=DURATION:PT1H
X-Robots-Tag:noindex
X-PUBLISHED-TTL:PT1H
BEGIN:VTIMEZONE
TZID:UTC
BEGIN:STANDARD
TZOFFSETFROM:+0000
TZOFFSETTO:+0000
TZNAME:UTC
DTSTART:20250101T000000
END:STANDARD
END:VTIMEZONE
BEGIN:VEVENT
DTSTART;TZID=UTC:20260414T080000
DTEND;TZID=UTC:20260415T170000
DTSTAMP:20260419T142726
CREATED:20260316T153700Z
LAST-MODIFIED:20260327T143006Z
UID:10970-1776153600-1776272400@www.atlanticaenergy.org
SUMMARY:Smart Energy Event: The Key to Canada’s Energy Security
DESCRIPTION:Smart Energy | Halifax strives to showcase the best of the innovators who are changing the world.  Meet with experts who are leading their organizations through energy transitions and see the technologies making it happen. \nEvent Website
URL:https://www.atlanticaenergy.org/event/smart-energy-event-the-key-to-canadas-energy-security/
LOCATION:Halifax Convention Centre
CATEGORIES:Public Calendar
END:VEVENT
END:VCALENDAR