BEGIN:VCALENDAR
VERSION:2.0
PRODID:-//Atlantica Centre For Energy - ECPv6.15.12.2//NONSGML v1.0//EN
CALSCALE:GREGORIAN
METHOD:PUBLISH
X-ORIGINAL-URL:https://www.atlanticaenergy.org
X-WR-CALDESC:Events for Atlantica Centre For Energy
REFRESH-INTERVAL;VALUE=DURATION:PT1H
X-Robots-Tag:noindex
X-PUBLISHED-TTL:PT1H
BEGIN:VTIMEZONE
TZID:UTC
BEGIN:STANDARD
TZOFFSETFROM:+0000
TZOFFSETTO:+0000
TZNAME:UTC
DTSTART:20250101T000000
END:STANDARD
END:VTIMEZONE
BEGIN:VEVENT
DTSTART;VALUE=DATE:20260506
DTEND;VALUE=DATE:20260508
DTSTAMP:20260419T161500
CREATED:20260316T155932Z
LAST-MODIFIED:20260327T142823Z
UID:10994-1778025600-1778198399@www.atlanticaenergy.org
SUMMARY:National Electricity Roundtable
DESCRIPTION:Is Canada Ready to be an Energy Superpower? Powering the Nation and Beyond\n\n\n\n\n\n\n\n\n\n\n​The National Electricity Roundtable’s 2026 spring meeting brings together senior leaders from government\, utilities\, system operators\, investors\, and developers to examine whether Canada is truly ready to be an energy superpower. \n\n\n\n\n\n\n\n\n\n\nJoin us\, as we have focused discussions on major project delivery\, national and regional grid integration\, market reform\, and the balance of provincial and federal authority. \nEvent Website
URL:https://www.atlanticaenergy.org/event/national-electricity-roundtable/
LOCATION:Lake Louise\, Alberta
CATEGORIES:Public Calendar
END:VEVENT
BEGIN:VEVENT
DTSTART;TZID=UTC:20260507T073000
DTEND;TZID=UTC:20260507T140000
DTSTAMP:20260419T161500
CREATED:20260316T155614Z
LAST-MODIFIED:20260327T142752Z
UID:10991-1778139000-1778162400@www.atlanticaenergy.org
SUMMARY:Canada Growth Summit 2026
DESCRIPTION:The Canada Growth Summit has become a must attend event on the country’s economic policy calendar\, where the Public Policy Forum (PPF) convenes the country’s leading policymakers\, experts\, industry executives and members of civil society to discuss the country’s most pressing policy challenges. \nEvent Website
URL:https://www.atlanticaenergy.org/event/canada-growth-summit-2026/
LOCATION:Fairmont Royal York – 100 Front Street West\, Toronto\, ON M5J 1E3
CATEGORIES:Public Calendar
END:VEVENT
END:VCALENDAR