BEGIN:VCALENDAR
VERSION:2.0
PRODID:-//Atlantica Centre For Energy - ECPv6.15.12.2//NONSGML v1.0//EN
CALSCALE:GREGORIAN
METHOD:PUBLISH
X-WR-CALNAME:Atlantica Centre For Energy
X-ORIGINAL-URL:https://www.atlanticaenergy.org
X-WR-CALDESC:Events for Atlantica Centre For Energy
REFRESH-INTERVAL;VALUE=DURATION:PT1H
X-Robots-Tag:noindex
X-PUBLISHED-TTL:PT1H
BEGIN:VTIMEZONE
TZID:UTC
BEGIN:STANDARD
TZOFFSETFROM:+0000
TZOFFSETTO:+0000
TZNAME:UTC
DTSTART:20250101T000000
END:STANDARD
END:VTIMEZONE
BEGIN:VEVENT
DTSTART;VALUE=DATE:20261112
DTEND;VALUE=DATE:20261114
DTSTAMP:20260420T010200
CREATED:20260316T154631Z
LAST-MODIFIED:20260327T142452Z
UID:10981-1794441600-1794614399@www.atlanticaenergy.org
SUMMARY:U.S.-Canada Executive Energy Conference
DESCRIPTION:New England Canada Business Council hosts one of the major annual North American energy events in Boston\, MA. \nOrganizer Website
URL:https://www.atlanticaenergy.org/event/u-s-canada-executive-energy-conference-2/
LOCATION:Seaport Hotel\, Boston\, Boston\, MA\, United States
CATEGORIES:Public Calendar
END:VEVENT
END:VCALENDAR