BEGIN:VCALENDAR
VERSION:2.0
PRODID:-//Atlantica Centre For Energy - ECPv6.15.12.2//NONSGML v1.0//EN
CALSCALE:GREGORIAN
METHOD:PUBLISH
X-WR-CALNAME:Atlantica Centre For Energy
X-ORIGINAL-URL:https://www.atlanticaenergy.org
X-WR-CALDESC:Events for Atlantica Centre For Energy
REFRESH-INTERVAL;VALUE=DURATION:PT1H
X-Robots-Tag:noindex
X-PUBLISHED-TTL:PT1H
BEGIN:VTIMEZONE
TZID:UTC
BEGIN:STANDARD
TZOFFSETFROM:+0000
TZOFFSETTO:+0000
TZNAME:UTC
DTSTART:20240101T000000
END:STANDARD
END:VTIMEZONE
BEGIN:VEVENT
DTSTART;VALUE=DATE:20261112
DTEND;VALUE=DATE:20261114
DTSTAMP:20260420T064528
CREATED:20260316T154631Z
LAST-MODIFIED:20260327T142452Z
UID:10981-1794441600-1794614399@www.atlanticaenergy.org
SUMMARY:U.S.-Canada Executive Energy Conference
DESCRIPTION:New England Canada Business Council hosts one of the major annual North American energy events in Boston\, MA. \nOrganizer Website
URL:https://www.atlanticaenergy.org/event/u-s-canada-executive-energy-conference-2/
LOCATION:Seaport Hotel\, Boston\, Boston\, MA\, United States
CATEGORIES:Public Calendar
END:VEVENT
BEGIN:VEVENT
DTSTART;VALUE=DATE:20261015
DTEND;VALUE=DATE:20261016
DTSTAMP:20260420T064528
CREATED:20260316T154338Z
LAST-MODIFIED:20260327T142537Z
UID:10978-1792022400-1792108799@www.atlanticaenergy.org
SUMMARY:econext 2026 Conference
DESCRIPTION:econext‘s Annual Conference is Newfoundland and Labrador’s premier green economy event\, attracting leaders in business\, government\, academia\, and the community. \nJoin us on October 15\, 2026 in St. John’s\, NL to hear about the latest developments in the province from decision makers and thought leaders relating to clean energy\, green innovation\, ongoing environmental challenges\, and the pursuit of net zero. \nEvent Website
URL:https://www.atlanticaenergy.org/event/econext-2026-conference/
LOCATION:St. John’s\, NL
CATEGORIES:Public Calendar
END:VEVENT
BEGIN:VEVENT
DTSTART;TZID=UTC:20260922T080000
DTEND;TZID=UTC:20260924T170000
DTSTAMP:20260420T064528
CREATED:20260327T143915Z
LAST-MODIFIED:20260327T143915Z
UID:11076-1790064000-1790269200@www.atlanticaenergy.org
SUMMARY:Atlantic Indigenous-Led Energy Symposium
DESCRIPTION:The 2026 Atlantic Indigenous-Led Energy Symposium marks our 5th year of convening First Nations leadership\, utilities\, government\, industry\, Elders\, Knowledge Keepers\, innovators\, and youth to strengthen partnerships and advance Indigenous leadership in the energy sector.  \nLast year’s symposium was widely described as a standout experience. Participants praised the meaningful sessions\, strong connections\, and thoughtful execution that made the event both impactful and energizing. The momentum continues to build.  \nAs we celebrate five years of growth and collaboration\, we are planning what we intend to be our strongest symposium yet.  \nEvent Website
URL:https://www.atlanticaenergy.org/event/atlantic-indigenous-led-energy-symposium/
END:VEVENT
BEGIN:VEVENT
DTSTART;TZID=UTC:20260916T110000
DTEND;TZID=UTC:20260916T200000
DTSTAMP:20260420T064528
CREATED:20260316T160626Z
LAST-MODIFIED:20260327T142606Z
UID:11003-1789556400-1789588800@www.atlanticaenergy.org
SUMMARY:Atlantic Canada Offshore Wind Readiness Forum 2026
DESCRIPTION:Atlantic Canada is at an inflection point. Much of the foundational work is now in place: research priorities have been identified\, knowledge gaps have been mapped\, and early engagement has positioned us well to move forward. The Forum builds on past efforts to connect regional stakeholders\, track priorities\, and prepare the region for offshore wind development. \nThe 2026 Atlantic Canada Offshore Wind Readiness Forum is designed to enable the early-stage research and actions that will reduce development risk\, support permitting certainty\, and accelerate timelines for offshore wind across the region. This is where industry\, governments\, researchers\, and international partners align around the next steps for offshore wind development in Atlantic Canada. \nEvent Website
URL:https://www.atlanticaenergy.org/event/atlantic-canada-offshore-wind-readiness-forum-2026/
CATEGORIES:Public Calendar
END:VEVENT
BEGIN:VEVENT
DTSTART;TZID=UTC:20260602T080000
DTEND;TZID=UTC:20260604T170000
DTSTAMP:20260420T064528
CREATED:20260327T145028Z
LAST-MODIFIED:20260327T150040Z
UID:11079-1780387200-1780592400@www.atlanticaenergy.org
SUMMARY:EnergyNL annual conference and exhibition
DESCRIPTION:The Energy NL Conference & Exhibition 2026\, themed “Energy Opportunity: From the Atlantic to the World\,” is scheduled for June 2–4\, 2026\, at the St. John’s Convention Centre in St. John’s\, NL. As the premier Newfoundland and Labrador energy event\, it connects industry leaders to discuss offshore oil\, renewable energy\, and supply chain growth. \nEvent Website
URL:https://www.atlanticaenergy.org/event/energynl-annual-conference-and-exhibition/
END:VEVENT
BEGIN:VEVENT
DTSTART;TZID=UTC:20260602T080000
DTEND;TZID=UTC:20260604T170000
DTSTAMP:20260420T064528
CREATED:20260327T143601Z
LAST-MODIFIED:20260327T143758Z
UID:11074-1780387200-1780592400@www.atlanticaenergy.org
SUMMARY:Energy NL Annual Conference & Exhibition 2026
DESCRIPTION:Energy Opportunity: From the Atlantic to the World \nThis annual event features key discussions on the future of energy\, including industry economic outlooks\, offshore wind\, and local content. The theme centers on “Energy Opportunity: From the Atlantic to the World. \nEvent Website
URL:https://www.atlanticaenergy.org/event/energy-nl-annual-conference-exhibition-2026/
END:VEVENT
BEGIN:VEVENT
DTSTART;VALUE=DATE:20260602
DTEND;VALUE=DATE:20260604
DTSTAMP:20260420T064528
CREATED:20260316T155009Z
LAST-MODIFIED:20260327T142646Z
UID:10986-1780358400-1780531199@www.atlanticaenergy.org
SUMMARY:SMR Forum
DESCRIPTION:Pioneering New Nuclear in Atlantic Canada convenes senior leaders from provincial and federal governments\, utilities\, Indigenous organizations\, industry\, finance\, regulators\, and international partners to advance practical pathways for new nuclear deployment. Taking place in Saint John\, New Brunswick on June 2–3\, 2026\, the Forum will examine how new nuclear can strengthen energy security and grid reliability\, support industrial competitiveness and decarbonization\, and unlock growth opportunities tied to ports\, shipping\, and critical infrastructure. \nEvent Website
URL:https://www.atlanticaenergy.org/event/smr-forum/
LOCATION:Delta Saint John\, NB
CATEGORIES:Public Calendar
END:VEVENT
BEGIN:VEVENT
DTSTART;VALUE=DATE:20260526
DTEND;VALUE=DATE:20260528
DTSTAMP:20260420T064528
CREATED:20260316T155359Z
LAST-MODIFIED:20260327T142722Z
UID:10989-1779753600-1779926399@www.atlanticaenergy.org
SUMMARY:Energizing Efficiency Conference
DESCRIPTION:Energizing Efficiency 2026 – Energy That Shapes Our Future\nDriving change today\, shaping a smarter tomorrow. \nEnergy efficiency and electrification are transforming how we power our world. But what comes next? At the 2026 conference\, we’ll explore innovative technical solutions\, policies\, customer experiences\, and more that will define tomorrow’s sustainable systems. Be part of the conversation that’s shaping the future of energy. \nEvent Website
URL:https://www.atlanticaenergy.org/event/energizing-efficiency-conference-2/
LOCATION:Fredericton Convention Centre
CATEGORIES:Public Calendar
END:VEVENT
BEGIN:VEVENT
DTSTART;TZID=UTC:20260507T073000
DTEND;TZID=UTC:20260507T140000
DTSTAMP:20260420T064528
CREATED:20260316T155614Z
LAST-MODIFIED:20260327T142752Z
UID:10991-1778139000-1778162400@www.atlanticaenergy.org
SUMMARY:Canada Growth Summit 2026
DESCRIPTION:The Canada Growth Summit has become a must attend event on the country’s economic policy calendar\, where the Public Policy Forum (PPF) convenes the country’s leading policymakers\, experts\, industry executives and members of civil society to discuss the country’s most pressing policy challenges. \nEvent Website
URL:https://www.atlanticaenergy.org/event/canada-growth-summit-2026/
LOCATION:Fairmont Royal York – 100 Front Street West\, Toronto\, ON M5J 1E3
CATEGORIES:Public Calendar
END:VEVENT
BEGIN:VEVENT
DTSTART;VALUE=DATE:20260506
DTEND;VALUE=DATE:20260508
DTSTAMP:20260420T064528
CREATED:20260316T155932Z
LAST-MODIFIED:20260327T142823Z
UID:10994-1778025600-1778198399@www.atlanticaenergy.org
SUMMARY:National Electricity Roundtable
DESCRIPTION:Is Canada Ready to be an Energy Superpower? Powering the Nation and Beyond\n\n\n\n\n\n\n\n\n\n\n​The National Electricity Roundtable’s 2026 spring meeting brings together senior leaders from government\, utilities\, system operators\, investors\, and developers to examine whether Canada is truly ready to be an energy superpower. \n\n\n\n\n\n\n\n\n\n\nJoin us\, as we have focused discussions on major project delivery\, national and regional grid integration\, market reform\, and the balance of provincial and federal authority. \nEvent Website
URL:https://www.atlanticaenergy.org/event/national-electricity-roundtable/
LOCATION:Lake Louise\, Alberta
CATEGORIES:Public Calendar
END:VEVENT
BEGIN:VEVENT
DTSTART;VALUE=DATE:20260428
DTEND;VALUE=DATE:20260501
DTSTAMP:20260420T064528
CREATED:20260316T154813Z
LAST-MODIFIED:20260327T142854Z
UID:10983-1777334400-1777593599@www.atlanticaenergy.org
SUMMARY:CNA2026
DESCRIPTION:As energy demand rises and climate challenges intensify\, Canada’s nuclear industry stands out for its ability to provide reliable\, clean electricity while enhancing energy security and economic resilience. CNA2026: Power and Purpose highlights nuclear energy’s crucial role in powering homes and businesses and in supplying life-saving medical isotopes for advanced diagnostics and cancer treatments. Nuclear also supports strong\, resilient communities that create and sustain jobs and local economies for generations. Beyond technology\, nuclear energy symbolizes a shared commitment to stability\, prosperity\, and environmental stewardship. This Conference unites leaders and innovators from across Canada to collaborate on sustainable energy solutions that benefit all communities. \nEvent Website
URL:https://www.atlanticaenergy.org/event/cna2026/
LOCATION:Rogers Centre\, Ottawa\, ON
CATEGORIES:Public Calendar
END:VEVENT
BEGIN:VEVENT
DTSTART;TZID=UTC:20260414T080000
DTEND;TZID=UTC:20260415T170000
DTSTAMP:20260420T064528
CREATED:20260316T153700Z
LAST-MODIFIED:20260327T143006Z
UID:10970-1776153600-1776272400@www.atlanticaenergy.org
SUMMARY:Smart Energy Event: The Key to Canada’s Energy Security
DESCRIPTION:Smart Energy | Halifax strives to showcase the best of the innovators who are changing the world.  Meet with experts who are leading their organizations through energy transitions and see the technologies making it happen. \nEvent Website
URL:https://www.atlanticaenergy.org/event/smart-energy-event-the-key-to-canadas-energy-security/
LOCATION:Halifax Convention Centre
CATEGORIES:Public Calendar
END:VEVENT
BEGIN:VEVENT
DTSTART;VALUE=DATE:20260413
DTEND;VALUE=DATE:20260414
DTSTAMP:20260420T064528
CREATED:20260316T153433Z
LAST-MODIFIED:20260327T143039Z
UID:10967-1776038400-1776124799@www.atlanticaenergy.org
SUMMARY:Hydrogen East
DESCRIPTION:Hydrogen East | Halifax is Atlantic Canada’s premier event spotlighting the region’s fast-growing hydrogen economy. Held alongside the renowned Smart Energy | Halifax conference\, it brings together industry leaders\, innovators\, and policymakers to explore real-world opportunities for hydrogen across the region. \nEvent Website
URL:https://www.atlanticaenergy.org/event/hydrogen-east/
CATEGORIES:Public Calendar
END:VEVENT
BEGIN:VEVENT
DTSTART;TZID=UTC:20260409T160000
DTEND;TZID=UTC:20260409T170000
DTSTAMP:20260420T064528
CREATED:20260316T160501Z
LAST-MODIFIED:20260327T143121Z
UID:11001-1775750400-1775754000@www.atlanticaenergy.org
SUMMARY:Hydrogen Supply Chains in Atlantic Canada: Findings\, Gaps\, and Opportunities
DESCRIPTION:Enabling a hydrogen economy in Atlantic Canada requires a strong industrial supply chain. As hydrogen projects move from concept toward development\, understanding the readiness of the regional supply chain and identifying key gaps becomes increasingly important. \nTo support this effort\, the Atlantic Hydrogen Alliance (AHA)\, in partnership with Energy NL and Net Zero Atlantic\, retained Deloitte to conduct a hydrogen supply chain study. The work was supported by the four Atlantic provincial governments and the Atlantic Canada Opportunities Agency (ACOA)\, and assesses the region’s readiness to support a clean hydrogen sector. \nEvent Website
URL:https://www.atlanticaenergy.org/event/hydrogen-supply-chains-in-atlantic-canada-findings-gaps-and-opportunities/
CATEGORIES:Public Calendar
END:VEVENT
BEGIN:VEVENT
DTSTART;TZID=UTC:20260402T130000
DTEND;TZID=UTC:20260402T140000
DTSTAMP:20260420T064528
CREATED:20260316T160120Z
LAST-MODIFIED:20260327T143245Z
UID:10997-1775134800-1775138400@www.atlanticaenergy.org
SUMMARY:Assessing the Socioeconomic Impacts of a Subsea Transmission Cable in Nova Scotia
DESCRIPTION:Nova Scotia’s offshore wind resource positions the province to generate clean electricity for domestic use and potential export markets. A subsea transmission cable connecting Nova Scotia’s offshore wind developments to the northeastern United States could enable larger-scale deployment and export of this clean energy. \nWSP and Power Advisory\, in partnership with Net Zero Atlantic\, conducted a study assessing the socioeconomic impacts of developing such a cable. \nEvent Website
URL:https://www.atlanticaenergy.org/event/assessing-the-socioeconomic-impacts-of-a-subsea-transmission-cable-in-nova-scotia/
LOCATION:Webinar
CATEGORIES:Public Calendar
END:VEVENT
BEGIN:VEVENT
DTSTART;TZID=UTC:20260325T143000
DTEND;TZID=UTC:20260325T180000
DTSTAMP:20260420T064528
CREATED:20260316T154035Z
LAST-MODIFIED:20260316T154035Z
UID:10973-1774449000-1774461600@www.atlanticaenergy.org
SUMMARY:Marine Renewables Canada Regional Member Exchange
DESCRIPTION:This in-person event will bring members together to exchange insights\, share regional perspectives\, and discuss challenges and opportunities shaping Canada’s marine renewable energy sector. Participants will also hear updates on activities underway by the MRC team to support sector growth.
URL:https://www.atlanticaenergy.org/event/marine-renewables-canada-regional-member-exchange/
CATEGORIES:Public Calendar
END:VEVENT
BEGIN:VEVENT
DTSTART;TZID=UTC:20260325T130000
DTEND;TZID=UTC:20260325T170000
DTSTAMP:20260420T064528
CREATED:20260316T160319Z
LAST-MODIFIED:20260316T160319Z
UID:10999-1774443600-1774458000@www.atlanticaenergy.org
SUMMARY:Getting to yes on wind and transmission
DESCRIPTION:Most Canadians support clean electricity like wind and transmission\, yet projects are contested on the ground. What keeps people stuck\, and what actually helps communities get to “yes”? Drawing on national survey and focus group research conducted by Re.Climate in partnership with Abacus Data\, this webinar explores what shapes public acceptance of large-scale wind and transmission projects in Canada. We move beyond dismissive explanations like “NIMBYism” and look instead at what the evidence shows really matters when decisions become real.
URL:https://www.atlanticaenergy.org/event/getting-to-yes-on-wind-and-transmission/
LOCATION:Webinar
CATEGORIES:Public Calendar
END:VEVENT
BEGIN:VEVENT
DTSTART;TZID=UTC:20260226T130000
DTEND;TZID=UTC:20260226T140000
DTSTAMP:20260420T064528
CREATED:20260316T153058Z
LAST-MODIFIED:20260316T153059Z
UID:10965-1772110800-1772114400@www.atlanticaenergy.org
SUMMARY:Webinar: Marine Carbon Dioxide Removal 101: Science\, Policy & Engagement
DESCRIPTION:With increasing carbon dioxide emissions\, in addition to cutting fossil fuel emissions\, carbon dioxide removal techniques are likely necessary to meet climate goals\, especially to remove legacy carbon dioxide in the atmosphere. This webinar will provide a high-level overview of the more commonly considered mCDR techniques across biotic and abiotic methods. It will also touch on governance considerations and emphasize the importance of community engagement\, especially with Indigenous and fisheries communities.
URL:https://www.atlanticaenergy.org/event/webinar-marine-carbon-dioxide-removal-101-science-policy-engagement/
END:VEVENT
BEGIN:VEVENT
DTSTART;VALUE=DATE:20251119
DTEND;VALUE=DATE:20251121
DTSTAMP:20260420T064528
CREATED:20250526T143202Z
LAST-MODIFIED:20250526T143202Z
UID:10293-1763510400-1763683199@www.atlanticaenergy.org
SUMMARY:NECBC’s 33rd Annual U.S.-Canada Executive Energy Conference
DESCRIPTION:Location: Seaport Hotel\, Boston\, U.S.\, from November 19-20\, 2025 \nNECBC’s annual U.S.-Canada Executive Energy Conference is one of the major annual North American energy events. More Details.
URL:https://www.atlanticaenergy.org/event/necbcs-33rd-annual-u-s-canada-executive-energy-conference/
CATEGORIES:Public Calendar
END:VEVENT
BEGIN:VEVENT
DTSTART;VALUE=DATE:20251112
DTEND;VALUE=DATE:20251115
DTSTAMP:20260420T064528
CREATED:20250325T164356Z
LAST-MODIFIED:20250325T164356Z
UID:10126-1762905600-1763164799@www.atlanticaenergy.org
SUMMARY:Marine Renewables Canada: 2025 Conference & Exhibition
DESCRIPTION:Location: Halifax Convention Centre 1650 Argyle St\, Halifax\, from November 12-14\, 2025. \n Celebrate the momentum in the marine renewable energy sector with Marine Renewables Canada. Our expanded 2025 conference and exhibition will bring together leading minds from across Canada and the world to explore new opportunities and chart the future of the industry. More Details.
URL:https://www.atlanticaenergy.org/event/marine-renewables-canada-2025-conference-exhibition/
CATEGORIES:Public Calendar
END:VEVENT
BEGIN:VEVENT
DTSTART;VALUE=DATE:20251028
DTEND;VALUE=DATE:20251031
DTSTAMP:20260420T064528
CREATED:20250211T153901Z
LAST-MODIFIED:20250211T153901Z
UID:9881-1761609600-1761868799@www.atlanticaenergy.org
SUMMARY:NSMTC: 2025 Atlantic Indigenous-Led Energy Symposium
DESCRIPTION:Location: Delta Hotels by Marriott Beausejour\, Moncton\, from October 28-30\, 2025 \nThe Atlantic Indigenous-Led Energy Symposium is an annual gathering of First Nation leaders\, utilities\, government\, and industry to share knowledge and forge partnerships in the evolving energy sector. The 2025 symposium will highlight Indigenous-led energy projects that prioritize environmental stewardship\, resource management\, and long-term sustainability. More Details.
URL:https://www.atlanticaenergy.org/event/nsmtc-2025-atlantic-indigenous-led-energy-symposium/
CATEGORIES:Public Calendar
END:VEVENT
BEGIN:VEVENT
DTSTART;VALUE=DATE:20250924
DTEND;VALUE=DATE:20250925
DTSTAMP:20260420T064528
CREATED:20250506T134823Z
LAST-MODIFIED:20250506T134823Z
UID:10279-1758672000-1758758399@www.atlanticaenergy.org
SUMMARY:Net Zero Atlantic: Nova Scotia Offshore Wind R&D Forum 2025
DESCRIPTION:Location: The Westin Nova Scotian\, Halifax\, on September 24\, 2025 \nThis event is a full-day gathering of innovators\, researchers\, investors\, and decision-makers\, convened by Net Zero Atlantic to align research efforts with the urgent needs of industry and government. As Nova Scotia prepares for its first offshore wind call for bids in 2025\, this Forum provides an opportunity to take stock of progress and define what’s needed next. More Details.
URL:https://www.atlanticaenergy.org/event/net-zero-atlantic-nova-scotia-offshore-wind-rd-forum-2025/
CATEGORIES:Public Calendar
END:VEVENT
BEGIN:VEVENT
DTSTART;VALUE=DATE:20250923
DTEND;VALUE=DATE:20250926
DTSTAMP:20260420T064528
CREATED:20250703T200131Z
LAST-MODIFIED:20250703T200131Z
UID:10423-1758596400-1758769199@www.atlanticaenergy.org
SUMMARY:Wood Pellet Association of Canada (WPAC) Conference
DESCRIPTION:Location: Marriott Habourfront\, Halifax\, on September 23-24\, 2025 \nThe conference’s theme this year\, “Biomass for a Low-Carbon Future\,” will offer a focus on the roles that biomass and wood pellets can play in ensuring Canada has renewable and responsible energy production. Speakers will tackle a wide variety of sessions from lowering greenhouse gas emissions to supporting economic growth in the transition to a net-zero economy. The Conference will also feature an industry trade show. More details.
URL:https://www.atlanticaenergy.org/event/wood-pellet-association-of-canada-wpac-conference/
LOCATION:Marriott Habourfront\, Halifax\, Nova Scotia\, Canada
CATEGORIES:Public Calendar
END:VEVENT
BEGIN:VEVENT
DTSTART;TZID=UTC:20250813T183000
DTEND;TZID=UTC:20250813T203000
DTSTAMP:20260420T064528
CREATED:20250620T125626Z
LAST-MODIFIED:20250620T125800Z
UID:10361-1755109800-1755117000@www.atlanticaenergy.org
SUMMARY:MRC: Summer Social on the Harbour
DESCRIPTION:Marine Renewables Canada (MRC) summer event to bring its members and the broader ocean and energy industries together for an evening of networking and catching up on progress and opportunities in the sector.
URL:https://www.atlanticaenergy.org/event/mrc-summer-social-on-the-harbour/
CATEGORIES:Public Calendar
END:VEVENT
BEGIN:VEVENT
DTSTART;TZID=UTC:20250710T160000
DTEND;TZID=UTC:20250710T170000
DTSTAMP:20260420T064528
CREATED:20250703T183257Z
LAST-MODIFIED:20250703T183531Z
UID:10419-1752163200-1752166800@www.atlanticaenergy.org
SUMMARY:Net Zero Atlantic: Mitigating Winter Peak Demand in a Decarbonizing Atlantic Canada
DESCRIPTION:Electrifying residential space heating is central to Atlantic Canada’s path to net-zero—but this shift also intensifies winter electricity peaks\, especially during the coldest hours of the year. This study\, jointly led by Net Zero Atlantic and the Institut de l’énergie Trottier\, explores how residential space heating electrification and population growth will impact electricity system infrastructure requirements\, GHG emissions\, peak demand\, and overall system costs in the region. More details.
URL:https://www.atlanticaenergy.org/event/net-zero-atlantic-mitigating-winter-peak-demand-in-a-decarbonizing-atlantic-canada/
LOCATION:Webinar
CATEGORIES:Public Calendar
END:VEVENT
BEGIN:VEVENT
DTSTART;TZID=UTC:20250709T150000
DTEND;TZID=UTC:20250709T160000
DTSTAMP:20260420T064528
CREATED:20250703T195659Z
LAST-MODIFIED:20250703T200157Z
UID:10421-1752073200-1752076800@www.atlanticaenergy.org
SUMMARY:Cox & Palmer: Energizing the Future – Atlantic Canada and Beyond A Conversation Between The Hon. Stephen McNeil and Peter Gregg
DESCRIPTION:Join an insightful and timely discussion on the future of energy in Atlantic Canada\, featuring two of the region’s leaders in energy and public policy. Together\, The Hon. Stephen McNeil and Peter Gregg\, President & CEO of Nova Scotia Power\, will explore the opportunities and challenges shaping our region\, and Atlantic Canada’s role on the national and global stage. \nThe conversation will explore: \n\nEnvironmental Scan: Political landscape in the U.S. and the impact on Canadians\nRenewable Energy Growth: Can Atlantic Canada lead in wind\, solar\, hydro and tidal?\nOffshore Wind & Green Hydrogen: Exploring large-scale projects across the nation\nGrid Modernization: Improving reliability\, efficiency and export capacity in Canada and the U.S.\nCross-Border Energy Trade: Growing interconnections and subsea cable opportunities outside of Atlantic Canada\nCommunity & Indigenous Involvement: Partnering for sustainable development\n\nMore Details
URL:https://www.atlanticaenergy.org/event/cox-palmer-energizing-the-future-atlantic-canada-and-beyond-a-conversation-between-the-hon-stephen-mcneil-and-peter-gregg/
LOCATION:Webinar
CATEGORIES:Public Calendar
END:VEVENT
BEGIN:VEVENT
DTSTART;VALUE=DATE:20250625
DTEND;VALUE=DATE:20250627
DTSTAMP:20260420T064528
CREATED:20250117T155203Z
LAST-MODIFIED:20250117T155203Z
UID:9768-1750809600-1750982399@www.atlanticaenergy.org
SUMMARY:The Transition Accelerator: Canada’s Net-Zero Forum 2025
DESCRIPTION:Location: Rogers Centre Ottawa from June 25-26\, 2025 \nCanada’s Net-Zero Forum returns on June 25-26\, 2025 in Ottawa\, bringing together 250+ industry\, government\, Indigenous and civil society leaders to examine how Canada can secure its competitive position in a low-carbon global economy. Join us at Rogers Centre Ottawa to be part of a two-day event exploring real-world solutions to the challenges of building a carbon-neutral economy\, with a focus on Getting Things Done. Featuring thoughtfully curated panels and generous networking opportunities. More Details.
URL:https://www.atlanticaenergy.org/event/the-transition-accelerator-canadas-net-zero-forum-2025/
CATEGORIES:Public Calendar
END:VEVENT
BEGIN:VEVENT
DTSTART;VALUE=DATE:20250624
DTEND;VALUE=DATE:20250625
DTSTAMP:20260420T064528
CREATED:20250616T152610Z
LAST-MODIFIED:20250616T152610Z
UID:10359-1750723200-1750809599@www.atlanticaenergy.org
SUMMARY:Atlantic Economic Council: Building Atlantic Canada 2025
DESCRIPTION:Location: Webinar on Tuesday\, June 24\, 2025\, from 10:00 – 11:00 AM ADT. \nBuilding Atlantic Canada – a new of investment. Join the Atlantic Economic Council for the latest on major projects in Atlantic Canada and gain insights on the $200 million of potential investment in the region on the horizon. Learn from their experts on the future of investment in the region\, with highlights from their newly updated Major Projects Inventory and the latest data on capital investment in Atlantic Canada. More Details.
URL:https://www.atlanticaenergy.org/event/atlantic-economic-council-building-atlantic-canada-2025/
CATEGORIES:Public Calendar
END:VEVENT
BEGIN:VEVENT
DTSTART;VALUE=DATE:20250618
DTEND;VALUE=DATE:20250619
DTSTAMP:20260420T064528
CREATED:20250506T121112Z
LAST-MODIFIED:20250506T121112Z
UID:10277-1750204800-1750291199@www.atlanticaenergy.org
SUMMARY:Net Zero Atlantic: Atlantic Canadian Conference on Energy System Modelling 
DESCRIPTION:Location: Westin Nova Scotian\, Halifax NS\, June 18\, 2025\, from 7:30 AM – 7:00 PM AST \nThe 2025 edition of the Atlantic Canadian Conference on Energy System Modelling is positioned to lean into the opportunities of today. The theme\, “Leveraging Innovation and Interprovincial Collaboration for a Reliable and Affordable Grid in Atlantic Canada\,” provides a focal point for discussion as we look to foundational opportunities and challenges in the region. Gain insights from regional and national experts on energy modelling challenges and opportunities\, explore how innovation and interprovincial collaboration can shape a reliable and affordable grid\, and engage in discussions on regional challenges\, trade barriers\, and actionable energy policies. More Details.
URL:https://www.atlanticaenergy.org/event/net-zero-atlantic-atlantic-canadian-conference-on-energy-system-modelling-2/
CATEGORIES:Public Calendar
END:VEVENT
BEGIN:VEVENT
DTSTART;VALUE=DATE:20250528
DTEND;VALUE=DATE:20250529
DTSTAMP:20260420T064528
CREATED:20250515T115926Z
LAST-MODIFIED:20250515T115926Z
UID:10287-1748390400-1748476799@www.atlanticaenergy.org
SUMMARY:Net-Zero Atlantic: Assessing Atlantic Canada’s Hydrogen Supply Chain – Gaps\, Readiness\, and Growth
DESCRIPTION:Location: Webinar on May 28\, 2025\, from 1:00-2:00PM AST \nEnabling a hydrogen economy in Atlantic Canada requires a strong industrial supply chain. An important first step in this development is to understand the readiness of the supply chain and identify the gaps that exist. The Atlantic Hydrogen Alliance (AHA)\, Energy NL\, and Net Zero Atlantic have partnered with Deloitte as well as the four Atlantic provinces and ACOA to conduct a hydrogen supply chain study\, aiming to assess the regional supply chain for a clean hydrogen economy in Atlantic Canada. More Details.
URL:https://www.atlanticaenergy.org/event/net-zero-atlantic-assessing-atlantic-canadas-hydrogen-supply-chain-gaps-readiness-and-growth/
CATEGORIES:Public Calendar
END:VEVENT
END:VCALENDAR