BEGIN:VCALENDAR
VERSION:2.0
PRODID:-//Atlantica Centre For Energy - ECPv6.15.12.2//NONSGML v1.0//EN
CALSCALE:GREGORIAN
METHOD:PUBLISH
X-WR-CALNAME:Atlantica Centre For Energy
X-ORIGINAL-URL:https://www.atlanticaenergy.org
X-WR-CALDESC:Events for Atlantica Centre For Energy
REFRESH-INTERVAL;VALUE=DURATION:PT1H
X-Robots-Tag:noindex
X-PUBLISHED-TTL:PT1H
BEGIN:VTIMEZONE
TZID:UTC
BEGIN:STANDARD
TZOFFSETFROM:+0000
TZOFFSETTO:+0000
TZNAME:UTC
DTSTART:20210101T000000
END:STANDARD
END:VTIMEZONE
BEGIN:VEVENT
DTSTART;TZID=UTC:20230608T080000
DTEND;TZID=UTC:20230609T170000
DTSTAMP:20260420T044720
CREATED:20230428T105921Z
LAST-MODIFIED:20230428T105936Z
UID:7345-1686211200-1686330000@www.atlanticaenergy.org
SUMMARY:Atlantica Energy Summit & Board Retreat
DESCRIPTION:Prince Edward Island and the PEI Energy Corporation welcomes you to the Rodd Crowbush Golf and Beach resort for the first annual Atlantica Energy Summit\, an opportunity for proactive discussion on the energy sector hosted by the Atlantica Centre for Energy.  \nPROGRAM SYNOPSIS\nThursday June 8\n9:00 am\nPEI Energy Innovation Tour (Optional\, pre-registration required) \n12:30 pm\nArrival & Networking Luncheon  \n2:00 pm\nBoard Meeting (Members-Only) \n3:00 pm\nOfficial Program  \n\nElectrification and the Path to Net-Zero Grid by 2035 – What it means for Atlantic Canada\nFrancis Bradley\, President and CEO\, Electricity Canada\nEnergy Innovation Best Practices \nPanel Discussion\n\n6:30 pm\nReception and Dinner  \n\nWelcome: Honorable Denis King\, Premier\, Prince Edward Island (invited)\nKeynote: Making Sense of the Energy Transition: Geopolitics\, Economics and Opportunities\nHon. Lisa Raitt\, Vice-Chair of Global Investment Banking at CIBC\, Former Federal Minister of Transport\, Labour and Natural Resources\n\nFriday\, June 9 \n9:00 am\nAtlantic Canada’s Energy Transition\nDavid Hay\, Managing Director of Delgatie Incorporated\, former Vice-Chair and Managing Director of CIBC World Markets Inc.\, and former President and CEO of New Brunswick Power Corporation. \n10:30 am\nProvincial Energy Priorities Moderated Discussion \n\nSteven Myers\, Minister of Energy and Climate Action\, Prince Edward Island\nMike Holland\, Minister of Natural Resources and Energy Development\, New Brunswick\nTory Rushton\, Minister of Resources and Renewables\, Nova Scotia\nAndrew Parsons\, Minister of Industry\, Energy & Technology\, Newfoundland and Labrador (invited)\n\n12:00 pm\nKeynote Luncheon: Economic Reconciliation – Entering The New Paradigm Of Indigenous Relations\nJason Rasevych\, Partner\, National Indigenous Client Services Lead\, Deloitte \n1:00 pm\nTopic Briefs & Interactive Dialogue: Nuclear\, Hydrogen\, Renewables\, Oil & Gas (RNG\, LNG\, Natural Gas)\nSummary of Action Items: David Campbell \n3:30 pm\nClosing Remarks 
URL:https://www.atlanticaenergy.org/event/atlantica-energy-summit-board-retreat/
LOCATION:Rodd Crowbush Golf and Beach Resort\, Morell\, PEI
CATEGORIES:Member Calendar
END:VEVENT
BEGIN:VEVENT
DTSTART;VALUE=DATE:20230606
DTEND;VALUE=DATE:20230607
DTSTAMP:20260420T044720
CREATED:20230111T133703Z
LAST-MODIFIED:20230111T134245Z
UID:6693-1686009600-1686095999@www.atlanticaenergy.org
SUMMARY:APEC Major Projects Event
DESCRIPTION:Capital Investment Projects for Atlantic Canada.
URL:https://www.atlanticaenergy.org/event/apec-major-projects-event/
LOCATION:Pier 21\, Halifax\,\, NS\, Canada
CATEGORIES:Public Calendar
END:VEVENT
BEGIN:VEVENT
DTSTART;TZID=UTC:20230525T110000
DTEND;TZID=UTC:20230525T130000
DTSTAMP:20260420T044720
CREATED:20230228T150643Z
LAST-MODIFIED:20230519T162018Z
UID:7066-1685012400-1685019600@www.atlanticaenergy.org
SUMMARY:May Board Meeting
DESCRIPTION:TIME: 11:00 am – 1:00 pm \nLOCATION: NB Power Head Office\, 515 King Street P.O. Box 2000. Fredericton\, NB E3B 4X1 \nSPEAKER/TOPIC: New Brunswick Update \nVIRTUAL TEAMS LINK: Click here to join the meeting
URL:https://www.atlanticaenergy.org/event/may-board-meeting/
LOCATION:NB Power Head Office\, 515 King Street\, Fredericton\, NB\, E3B 4X1\, Canada
CATEGORIES:Member Calendar
END:VEVENT
BEGIN:VEVENT
DTSTART;TZID=UTC:20230524T080000
DTEND;TZID=UTC:20230525T170000
DTSTAMP:20260420T044720
CREATED:20230329T124936Z
LAST-MODIFIED:20230329T231342Z
UID:7225-1684915200-1685034000@www.atlanticaenergy.org
SUMMARY:Energizing Efficiency
DESCRIPTION:This event will feature more than 20 sessions and two keynotes over two days discussing the topics of energy efficiency\, energy management and carbon reduction. The conference will share best practices\, case studies\, innovative techniques and energy solutions\, while enhancing the conversation with content and resources from well-respected speakers in the areas of clean energy\, transportation\, energy efficiency\, building systems\, community planning and policy. More details
URL:https://www.atlanticaenergy.org/event/energizing-efficiency/
LOCATION:Fredericton Convention Centre
CATEGORIES:Member Calendar,Public Calendar
END:VEVENT
BEGIN:VEVENT
DTSTART;TZID=UTC:20230510T080000
DTEND;TZID=UTC:20230510T170000
DTSTAMP:20260420T044720
CREATED:20230428T144609Z
LAST-MODIFIED:20230428T144609Z
UID:7351-1683705600-1683738000@www.atlanticaenergy.org
SUMMARY:Nova Scotia Offshore Wind Supplier Session
DESCRIPTION:Engage with developers and learn about the pipeline of opportunities as Nova Scotia moves towards the transformation of the electricity sector to renewable energy. \nRegister by May 3rd by emailing: NRRevents@novascotia.ca.  \nPlease indicate if you will attend in person in Halifax (Convention Centre) or virtually. 
URL:https://www.atlanticaenergy.org/event/nova-scotia-offshore-wind-supplier-session/
LOCATION:In Person or Virtually
END:VEVENT
BEGIN:VEVENT
DTSTART;TZID=UTC:20230427T110000
DTEND;TZID=UTC:20230427T130000
DTSTAMP:20260420T044720
CREATED:20230228T150458Z
LAST-MODIFIED:20230427T203319Z
UID:7063-1682593200-1682600400@www.atlanticaenergy.org
SUMMARY:April Board Meeting
DESCRIPTION:TIME: 11:00 am – 1:00 pm \nLOCATION: JD Irving Head Office\, 300 Union Street\, Saint John\, NB \nSPEAKER/TOPIC: TBC \nVIRTUAL TEAMS LINK: Click here to join the meeting
URL:https://www.atlanticaenergy.org/event/april-board-meeting/
LOCATION:300 Union Street\, Saint John\, NB
CATEGORIES:Member Calendar
END:VEVENT
BEGIN:VEVENT
DTSTART;VALUE=DATE:20230417
DTEND;VALUE=DATE:20230419
DTSTAMP:20260420T044720
CREATED:20230125T163221Z
LAST-MODIFIED:20230125T163741Z
UID:6819-1681689600-1681862399@www.atlanticaenergy.org
SUMMARY:Smart Energy Event 2023
DESCRIPTION:The Smart Energy Event\, presented by Emera\, will focus on timely actions for decarbonizing communities are achieve net-zero targets. Join to hear from and meet with industry experts to learn about how organization are going through energy transitions\, and see the technologies that will clear the pathway to net zero. \nMore Details
URL:https://www.atlanticaenergy.org/event/smart-energy-event-2023/
LOCATION:Westin Nova Scotian\, Canada
CATEGORIES:Member Calendar,Public Calendar
END:VEVENT
BEGIN:VEVENT
DTSTART;TZID=UTC:20230405T100000
DTEND;TZID=UTC:20230405T110000
DTSTAMP:20260420T044720
CREATED:20230329T124707Z
LAST-MODIFIED:20230329T124713Z
UID:7221-1680688800-1680692400@www.atlanticaenergy.org
SUMMARY:Net-Zero 2050: Why it matters for your business
DESCRIPTION:The Atlantic Provinces Economic Council is hosting a free webinar to explain how this transition to net-zero will affect businesses and what can do about it. Lana Asaff\, APEC Senior Economist\, will provide an overview of how government climate measures will affect SMEs. J.D. Irving\, Limited will explain what they are doing to prepare for net-zero and how it will affect their supply chain. David Chaundy\, APEC’s President and CEO\, will moderate a Q&A with panelists. More details
URL:https://www.atlanticaenergy.org/event/net-zero-2050-why-it-matters-for-your-business/
LOCATION:Virtual Webinar
CATEGORIES:Public Calendar
END:VEVENT
BEGIN:VEVENT
DTSTART;TZID=UTC:20230330T120000
DTEND;TZID=UTC:20230330T130000
DTSTAMP:20260420T044720
CREATED:20230329T124556Z
LAST-MODIFIED:20230329T124556Z
UID:7219-1680177600-1680181200@www.atlanticaenergy.org
SUMMARY:Debunking Nuclear Myths
DESCRIPTION:The Organization of Canadian Nuclear Industries (OCNI) Youth Shadow Council is hosting panel of industry professionals from NB Power and GE Hitachi to help debunk common misconceptions and provide accurate information about nuclear energy. We’ll discuss topics that you the audience have put forth for us to answer and debunk! More details 
URL:https://www.atlanticaenergy.org/event/debunking-nuclear-myths/
LOCATION:Virtual Webinar
CATEGORIES:Public Calendar
END:VEVENT
BEGIN:VEVENT
DTSTART;TZID=UTC:20230330T110000
DTEND;TZID=UTC:20230330T130000
DTSTAMP:20260420T044720
CREATED:20230228T150138Z
LAST-MODIFIED:20230427T203406Z
UID:7060-1680174000-1680181200@www.atlanticaenergy.org
SUMMARY:March Board Meeting
DESCRIPTION:TIME: 11:00 am – 1:00 pm \nLOCATION: 71 Prince William Street\, Suite 102\, Saint John\, NB \nSPEAKER/TOPIC: An update on Small Modular Reactors (Moltex & ARC) \nVIRTUAL TEAMS LINK: Click here to join the meeting \n 
URL:https://www.atlanticaenergy.org/event/march-board-meeting/
LOCATION:71 Prince William Street\, Suite 102\, Saint John\, NB
CATEGORIES:Member Calendar
END:VEVENT
BEGIN:VEVENT
DTSTART;TZID=UTC:20230323T130000
DTEND;TZID=UTC:20230323T140000
DTSTAMP:20260420T044720
CREATED:20230222T135848Z
LAST-MODIFIED:20230222T151005Z
UID:6955-1679576400-1679580000@www.atlanticaenergy.org
SUMMARY:Small Reactors\, Big Opportunities
DESCRIPTION:Net Zero Atlantic is hosting a webinar presentation on advanced Small Modular Reaction development in New Brunswick. Speakers include: Andy Hayward\, Director of Advanced Reactor Development\, NB Power; Rory O’Sullivan\, Chief Executive Officer\, Moltex Energy; and\, Bill Labbe\, President & Chief Executive Officer\, ARC Clean Technology.\n\n\n\n\n\n\n\n\n\nRegister HERE.
URL:https://www.atlanticaenergy.org/event/small-reactors-big-opportunities/
LOCATION:Webinar
CATEGORIES:Member Calendar,Public Calendar
END:VEVENT
BEGIN:VEVENT
DTSTART;TZID=UTC:20230323T110000
DTEND;TZID=UTC:20230323T120000
DTSTAMP:20260420T044720
CREATED:20230306T131758Z
LAST-MODIFIED:20230306T131758Z
UID:7108-1679569200-1679572800@www.atlanticaenergy.org
SUMMARY:Webinar: Tackling the electricity crisis in Europe: emergency intervention or a full revamp?
DESCRIPTION:Live webcast | 1 hour \nThursday\, 23 March 2023 | 3 p.m. GMT| 10 a.m. ET | Register here \nJoin the second webinar in The Economist Insight Hour series\, where Deloitte\, together with industry leaders will be discussing some of the leading issues in the Energy\, Resources & Industrials sectors. \nThe energy sector has experienced turmoil in the past two years. COVID-19 lockdowns sharply reduced energy demand\, causing prices to drop. Then the post-pandemic economic rebound increased demand amid supply shortages\, resulting in price hikes. In the last year\, Russia’s invasion of Ukraine has created further uncertainty in the European policy landscape and energy markets\, with supply disruptions of natural gas leading to record-high electricity prices.
URL:https://www.atlanticaenergy.org/event/webinar-tackling-the-electricity-crisis-in-europe-emergency-intervention-or-a-full-revamp/
LOCATION:Webinar
CATEGORIES:Member Calendar,Public Calendar
END:VEVENT
BEGIN:VEVENT
DTSTART;TZID=UTC:20230318T130000
DTEND;TZID=UTC:20230318T140000
DTSTAMP:20260420T044720
CREATED:20230329T124811Z
LAST-MODIFIED:20230329T124811Z
UID:7223-1679144400-1679148000@www.atlanticaenergy.org
SUMMARY:The Business Case for ESG
DESCRIPTION:Net Zero Atlantic is hosting a presentation by Nancy Foran\, President of ESG Partners\, for an introduction to ESG. Nancy will provide context around this rapidly emerging topic and explain why the consideration of environmental\, social and governance issues are becoming increasingly important to businesses in Atlantic Canada and around the world. More details 
URL:https://www.atlanticaenergy.org/event/the-business-case-for-esg/
LOCATION:Virtual Webinar
CATEGORIES:Member Calendar,Public Calendar
END:VEVENT
BEGIN:VEVENT
DTSTART;VALUE=DATE:20230315
DTEND;VALUE=DATE:20230316
DTSTAMP:20260420T044720
CREATED:20230130T134951Z
LAST-MODIFIED:20230130T135046Z
UID:6835-1678838400-1678924799@www.atlanticaenergy.org
SUMMARY:New Brunswick Energy Symposium
DESCRIPTION:You are invited to join CCC and the Atlantica Centre for Energy as we host our first symposium of 2023. The region’s foremost energy leaders from GNB\, NB Power\, and industry will discuss topics including: \n\nNB’s role in the region’s energy transition\nHydrogen\nSmall Modular Reactors\nLNG Export\nNatural Gas\n\nREGISTER TODAY!
URL:https://www.atlanticaenergy.org/event/new-brunswick-energy-symposium/
LOCATION:Wu Centre\, Fredericton\, 6 Duffie Drive\, Fredericton\, NB
CATEGORIES:Member Calendar,Public Calendar
END:VEVENT
BEGIN:VEVENT
DTSTART;VALUE=DATE:20230301
DTEND;VALUE=DATE:20230317
DTSTAMP:20260420T044720
CREATED:20230125T163013Z
LAST-MODIFIED:20230125T163645Z
UID:6816-1677628800-1679011199@www.atlanticaenergy.org
SUMMARY:NBCC Career Fair
DESCRIPTION:NBCC will be hosting a series of Job Fairs across our six campus locations in March 2023. This is an excellent opportunity for employers to address their active and future staffing requirements\, participate in innovative recruiting\, and assist in the capacity building of NBCC students and graduates. Registration is now open for businesses. \nMore Details
URL:https://www.atlanticaenergy.org/event/nbcc-career-fair/
LOCATION:6 Venues
CATEGORIES:Member Calendar,Public Calendar
END:VEVENT
BEGIN:VEVENT
DTSTART;TZID=UTC:20230228T130000
DTEND;TZID=UTC:20230228T140000
DTSTAMP:20260420T044720
CREATED:20230222T133933Z
LAST-MODIFIED:20230222T134828Z
UID:6952-1677589200-1677592800@www.atlanticaenergy.org
SUMMARY:Working with Indigenous Communities to achieve Net Zero
DESCRIPTION:February 28\, 2023 1:00pm – 2:00pm AST\n\n\n\n\n\nNet Zero Atlantic is hosting a webinar by Todd Evans\, National Lead\, Indigenous Exporters\, Export Development Canada\, for an in-depth exploration of issues around the role that Indigenous communities have in reaching net zero.  The discussion will also provide guidance on working with Indigenous communities and partners\, and the value of building relationships with Indigenous companies.\n\n\nRegister HERE.
URL:https://www.atlanticaenergy.org/event/working-with-indigenous-communities-to-achieve-net-zero/
LOCATION:Webinar
CATEGORIES:Public Calendar
END:VEVENT
BEGIN:VEVENT
DTSTART;TZID=UTC:20230126T130000
DTEND;TZID=UTC:20230126T140000
DTSTAMP:20260420T044720
CREATED:20230125T162837Z
LAST-MODIFIED:20230125T163551Z
UID:6811-1674738000-1674741600@www.atlanticaenergy.org
SUMMARY:It’s time to address the carbon elephant in the room
DESCRIPTION:Net Zero Atlantica is hosting a presentation from Valentine Gomez of Gomex Engineering on embodied carbon in buildings. Learn what is it\, its relevance to climate change\, how we measure it\, about design guidance\, what existing government policies and building certifications aim to lower embodied carbon. \nMore Details
URL:https://www.atlanticaenergy.org/event/its-time-to-address-the-carbon-elephant-in-the-room/
LOCATION:Webinar
CATEGORIES:Public Calendar
END:VEVENT
BEGIN:VEVENT
DTSTART;VALUE=DATE:20230119
DTEND;VALUE=DATE:20230120
DTSTAMP:20260420T044720
CREATED:20221214T024119Z
LAST-MODIFIED:20221214T024119Z
UID:6598-1674086400-1674172799@www.atlanticaenergy.org
SUMMARY:Value-mapping the offshore wind resource of Nova Scotia
DESCRIPTION:11  am – 12 pm AST \nVirtual \nIn this webinar\, experts from global offshore wind intelligence firm Aegir Insights will discuss methodologies and results for economic mapping of Nova Scotia’s offshore wind resources. The results will be further qualified and discussed through comparison with the global offshore wind market and perspectives\, including offtake options\, constraints\, and other unique features of Nova Scotia. \nMore Details.
URL:https://www.atlanticaenergy.org/event/value-mapping-the-offshore-wind-resource-of-nova-scotia/
CATEGORIES:Public Calendar
END:VEVENT
BEGIN:VEVENT
DTSTART;VALUE=DATE:20230118
DTEND;VALUE=DATE:20230119
DTSTAMP:20260420T044720
CREATED:20221214T024033Z
LAST-MODIFIED:20221214T024033Z
UID:6596-1674000000-1674086399@www.atlanticaenergy.org
SUMMARY:Design & Construction Workshop: Panelized Building Energy Retrofits
DESCRIPTION:10 am AST \nDartmouth\, Nova Scotia \nJoin experts and industry professionals for a free workshop on panelized building energy retrofits and the exciting opportunities available in this growing market! This two-hour technical discussion will guide attendees through new innovations in deep energy retrofits and panelization. Exploring the current landscape of this growing market as well as barriers\, benefits and opportunities available to professionals in the construction\, design and efficiency workforce. \nMore Details.
URL:https://www.atlanticaenergy.org/event/design-construction-workshop-panelized-building-energy-retrofits/
CATEGORIES:Public Calendar
END:VEVENT
BEGIN:VEVENT
DTSTART;TZID=UTC:20230111T080000
DTEND;TZID=UTC:20230111T170000
DTSTAMP:20260420T044720
CREATED:20230111T134348Z
LAST-MODIFIED:20230111T134348Z
UID:6702-1673424000-1673456400@www.atlanticaenergy.org
SUMMARY:APEC Major Projects Event
DESCRIPTION:Capital Investment Projects for Atlantic Canada.
URL:https://www.atlanticaenergy.org/event/apec-major-projects-event-3/
LOCATION:Wingate by Wyndham\, Dieppe\, NB
CATEGORIES:Public Calendar
END:VEVENT
BEGIN:VEVENT
DTSTART;VALUE=DATE:20230111
DTEND;VALUE=DATE:20230112
DTSTAMP:20260420T044720
CREATED:20221214T023914Z
LAST-MODIFIED:20221214T023914Z
UID:6594-1673395200-1673481599@www.atlanticaenergy.org
SUMMARY:Modelling the Future of our Energy System - Academic Focus
DESCRIPTION:1 pm – 2 pm AST \nVirtual \nJoin Net Zero Atlantic’s modelling team for a student focused webinar as they discuss the Net Zero Atlantic’s Atlantic Canada Energy System (ACES) model. ACES was created to help Atlantic Canadians answer “what if?” questions about our energy system\, and how our region can plan a path towards Net-Zero. Attend this free webinar to learn more about energy system modelling and how it can help us achieve our climate goals. \nMore Details.
URL:https://www.atlanticaenergy.org/event/modelling-the-future-of-our-energy-system-academic-focus/
CATEGORIES:Public Calendar
END:VEVENT
BEGIN:VEVENT
DTSTART;VALUE=DATE:20221216
DTEND;VALUE=DATE:20221217
DTSTAMP:20260420T044720
CREATED:20221214T023632Z
LAST-MODIFIED:20221214T023722Z
UID:6591-1671148800-1671235199@www.atlanticaenergy.org
SUMMARY:Advanced Heat Pump Technologies
DESCRIPTION:10 am – 1:15 am AST \nVirtual \nThe heat pump concept has been around for a while now\, but technologies surrounding this concept has been in constant evolution. As decarbonization is taking place\, new technologies have been emerging that will help designers and owners achieve their sustainability goals. This is a brief look at what’s on the market and how it can be used to achieve our decarbonization goals\, at different scales. \nMore Details.
URL:https://www.atlanticaenergy.org/event/advanced-heat-pump-technologies/
CATEGORIES:Public Calendar
END:VEVENT
BEGIN:VEVENT
DTSTART;VALUE=DATE:20221208
DTEND;VALUE=DATE:20221210
DTSTAMP:20260420T044720
CREATED:20221207T024322Z
LAST-MODIFIED:20221207T040559Z
UID:6447-1670472000-1670558399@www.atlanticaenergy.org
SUMMARY:Energy transition: The Contribution of Nuclear
DESCRIPTION:6:30 pm AST\nVirtual \nAdvanced Energy Storage is the university’s primary focus – to deliver clean technology solutions by revolutionizing how we capture\, generate\, and store energy so future generations can thrive on a healthy planet. Its panelists will discuss how they are developing clean tech talent\, fueling research and creating clean tech opportunities for people and businesses. \nMore Details
URL:https://www.atlanticaenergy.org/event/energy-transition-the-contribution-of-nuclear/
CATEGORIES:Public Calendar
END:VEVENT
BEGIN:VEVENT
DTSTART;VALUE=DATE:20221208
DTEND;VALUE=DATE:20221209
DTSTAMP:20260420T044720
CREATED:20221207T024503Z
LAST-MODIFIED:20221207T040559Z
UID:6450-1670457600-1670543999@www.atlanticaenergy.org
SUMMARY:Open Dialogue Live: Clean energy of the next generation
DESCRIPTION:6:30 pm AST\nVirtual \nAdvanced Energy Storage is the university’s primary focus – to deliver clean technology solutions by revolutionizing how we capture\, generate\, and store energy so future generations can thrive on a healthy planet. Its panelists will discuss how they are developing clean tech talent\, fueling research and creating clean tech opportunities for people and businesses. \nMore Details
URL:https://www.atlanticaenergy.org/event/open-dialogue-live-clean-energy-of-the-next-generation/
CATEGORIES:Public Calendar
END:VEVENT
BEGIN:VEVENT
DTSTART;VALUE=DATE:20221207
DTEND;VALUE=DATE:20221209
DTSTAMP:20260420T044720
CREATED:20221207T023948Z
LAST-MODIFIED:20221207T040559Z
UID:6443-1670385600-1670471999@www.atlanticaenergy.org
SUMMARY:SaskPower Open House – Planning for Nuclear
DESCRIPTION:10am – 12pm & 5pm – 7pm AST\nVirtual \nDoor prizes\, breakout rooms and opportunities to speak to experts! Experts in the nuclear field will delve into the safety\, waste management and technology behind small modular reactors. Choose from ten 30-minute sessions\, and gain access to materials available to watch\, read\, or download for later! \nMore Details
URL:https://www.atlanticaenergy.org/event/saskpower-open-house-planning-for-nuclear/
CATEGORIES:Public Calendar
END:VEVENT
BEGIN:VEVENT
DTSTART;VALUE=DATE:20221207
DTEND;VALUE=DATE:20221209
DTSTAMP:20260420T044720
CREATED:20221207T024133Z
LAST-MODIFIED:20221214T024544Z
UID:6445-1670385600-1670471999@www.atlanticaenergy.org
SUMMARY:Women in Energy Roundtable
DESCRIPTION:8:30 am – 10 am \nVirtual \nThe barriers women face in the energy sector are similar to those they face elsewhere in the workforce. The energy sector needs to attract and retain a diverse workforce to ensure innovation and the inclusive perspectives needed to successfully navigate the low‑carbon energy transition. Join us for this unique opportunity to hear from our guest speakers as they discuss the issues and opportunities facing the energy industry and in particular\, Atlantic Canada. \nMore Details.
URL:https://www.atlanticaenergy.org/event/women-in-energy-roundtable/
CATEGORIES:Public Calendar
END:VEVENT
BEGIN:VEVENT
DTSTART;VALUE=DATE:20221206
DTEND;VALUE=DATE:20221208
DTSTAMP:20260420T044720
CREATED:20221112T233256Z
LAST-MODIFIED:20221207T040559Z
UID:5766-1670284800-1670457599@www.atlanticaenergy.org
SUMMARY:Atlantic Canada Solar Summit
DESCRIPTION:Halifax\, NS \nBuilding on the success of the Nova Scotia Solar Summits\, this year’s summit will expand to include the other Atlantic provinces. ACSS will include presentations on relevant solar topics and existing solar policies and programs\, breakout sessions\, an exhibitor tradeshow that showcases the region’s growing solar industry\, and more. \nMore Details
URL:https://www.atlanticaenergy.org/event/atlantic-canada-solar-summit/
CATEGORIES:Public Calendar
END:VEVENT
BEGIN:VEVENT
DTSTART;VALUE=DATE:20221125
DTEND;VALUE=DATE:20221126
DTSTAMP:20260420T044720
CREATED:20221113T004432Z
LAST-MODIFIED:20221207T040559Z
UID:5768-1669334400-1669420799@www.atlanticaenergy.org
SUMMARY:Toward Clean Hydrogen Production: Atlantic Canada’s Domestic Hydrogen Projects
DESCRIPTION:Virtual Webinar \nHydrogen production for export has been a hot topic in Atlantic Canada lately\, with studies showing that renewable and low-carbon hydrogen can play an essential role in meeting energy needs. The Atlantic Hydrogen Alliance (AHA) is putting a lens on hydrogen production for domestic use in the region. In this webinar\, Irving Oil\, Liberty\, and Eastward Energy will discuss up-and-coming hydrogen production projects and how they will help Atlantic Canada reach net zero. \nMore Details
URL:https://www.atlanticaenergy.org/event/toward-clean-hydrogen-production-atlantic-canadas-domestic-hydrogen-projects/
CATEGORIES:Public Calendar
END:VEVENT
BEGIN:VEVENT
DTSTART;VALUE=DATE:20221122
DTEND;VALUE=DATE:20221125
DTSTAMP:20260420T044720
CREATED:20221113T010255Z
LAST-MODIFIED:20221207T040559Z
UID:5773-1669075200-1669334399@www.atlanticaenergy.org
SUMMARY:Marine Renewables Canada Conference 2022
DESCRIPTION:Halifax\, NS \nMarine Renewables Canada’s Conference is the event of the year for our growing marine renewable energy industry-focusing on how offshore wind\, tidal\, wave\, river current energy can help power a sustainable and inclusive future in Canada and globally. \nMore Details
URL:https://www.atlanticaenergy.org/event/marine-renewables-canada-conference-2022/
CATEGORIES:Public Calendar
END:VEVENT
END:VCALENDAR