BEGIN:VCALENDAR
VERSION:2.0
PRODID:-//Atlantica Centre For Energy - ECPv6.15.12.2//NONSGML v1.0//EN
CALSCALE:GREGORIAN
METHOD:PUBLISH
X-ORIGINAL-URL:https://www.atlanticaenergy.org
X-WR-CALDESC:Events for Atlantica Centre For Energy
REFRESH-INTERVAL;VALUE=DURATION:PT1H
X-Robots-Tag:noindex
X-PUBLISHED-TTL:PT1H
BEGIN:VTIMEZONE
TZID:UTC
BEGIN:STANDARD
TZOFFSETFROM:+0000
TZOFFSETTO:+0000
TZNAME:UTC
DTSTART:20220101T000000
END:STANDARD
END:VTIMEZONE
BEGIN:VEVENT
DTSTART;TZID=UTC:20231204T080000
DTEND;TZID=UTC:20231206T170000
DTSTAMP:20260420T004639
CREATED:20231024T190647Z
LAST-MODIFIED:20231024T190647Z
UID:7733-1701676800-1701882000@www.atlanticaenergy.org
SUMMARY:Marine Renewables Canada 2023 Conference
DESCRIPTION:December 4-6\, 2023\nOttawa ON \nJoin us for the largest event of the year for Canada’s growing marine renewable energy industry! From offshore wind\, tidal energy\, and green hydrogen activity in Atlantic Canada to opportunities for wave energy on the Pacific coast and river current energy in remote communities across Canada\, the 2023 Marine Renewables Canada Conference will provide the latest information on market opportunities\, supportive policies\, and enabling initiatives. More Details.
URL:https://www.atlanticaenergy.org/event/marine-renewables-canada-2023-conference/
CATEGORIES:Public Calendar
END:VEVENT
BEGIN:VEVENT
DTSTART;TZID=UTC:20231128T140000
DTEND;TZID=UTC:20231128T160000
DTSTAMP:20260420T004639
CREATED:20231024T190543Z
LAST-MODIFIED:20231024T190543Z
UID:7729-1701180000-1701187200@www.atlanticaenergy.org
SUMMARY:Regulatory Innovation Round Table
DESCRIPTION:Tuesday\, November 28\, 2023\, from 1:00pm to 3:00pm (EST)\nWebinar \nLearn about the results from NRCan’s recent Request for Information on electricity regulation and grid modernization. Hear from a panel of experts on their perspectives and conclusions from these results and participate in a Q&A. Receive an overview of next steps from the Innovation and Electricity Regulation Initiative (IERI) team at Natural Resources Canada (NRCan). More details.
URL:https://www.atlanticaenergy.org/event/regulatory-innovation-round-table/
CATEGORIES:Public Calendar
END:VEVENT
BEGIN:VEVENT
DTSTART;TZID=UTC:20231123T110000
DTEND;TZID=UTC:20231123T130000
DTSTAMP:20260420T004639
CREATED:20230228T152830Z
LAST-MODIFIED:20230825T143635Z
UID:7081-1700737200-1700744400@www.atlanticaenergy.org
SUMMARY:November Board Meeting
DESCRIPTION:TIME: 11:00 am – 1:00 pm \nLOCATION: Eastward Energy\, Dartmouth\, NS \nSPEAKER/TOPIC: Eastward Energy and Annual Planning Session \nVIRTUAL TEAMS LINK: Click here to join the meeting
URL:https://www.atlanticaenergy.org/event/november-board-meeting/
LOCATION:TBC
CATEGORIES:Member Calendar
END:VEVENT
BEGIN:VEVENT
DTSTART;TZID=UTC:20231116T080000
DTEND;TZID=UTC:20231117T170000
DTSTAMP:20260420T004639
CREATED:20231024T190615Z
LAST-MODIFIED:20231024T190615Z
UID:7731-1700121600-1700240400@www.atlanticaenergy.org
SUMMARY:Hydrogen Business Council H2 Conference
DESCRIPTION:November 16-17\, 2023\nHybrid in person (Toronto\, ON) and virtual \nA two-day event covering all things hydrogen from Canada including a session Hydrogen Realities: An Atlantic Canadian Perspective where you will hear from industry and research partners on the current state of hydrogen in each of the four Atlantic provinces. Learn about investments and planning currently underway and the role hydrogen will play regionally to support the development of domestic and export markets. This year’s conference focuses on Sustainability and the Environment.  More details.
URL:https://www.atlanticaenergy.org/event/hydrogen-business-council-h2-conference/
CATEGORIES:Member Calendar
END:VEVENT
BEGIN:VEVENT
DTSTART;VALUE=DATE:20231109
DTEND;VALUE=DATE:20231110
DTSTAMP:20260420T004639
CREATED:20230111T134948Z
LAST-MODIFIED:20231016T114540Z
UID:6712-1699488000-1699574399@www.atlanticaenergy.org
SUMMARY:Atlantic Business Outlook Conference 2023
DESCRIPTION:An exclusive morning event hosted by the Atlantic Economic Council about its outlook for 2024\, key indicators to watch\, and how you can best navigate the risks ahead. More Information
URL:https://www.atlanticaenergy.org/event/apec-business-outlook-conference-2023-4/
LOCATION:Delta Hotel by Marriott Prince Edward\, Charlottetown\, PEI
CATEGORIES:Public Calendar
END:VEVENT
BEGIN:VEVENT
DTSTART;VALUE=DATE:20231108
DTEND;VALUE=DATE:20231109
DTSTAMP:20260420T004639
CREATED:20230111T134849Z
LAST-MODIFIED:20231016T114613Z
UID:6709-1699401600-1699487999@www.atlanticaenergy.org
SUMMARY:Atlantic Business Outlook Conference 2023
DESCRIPTION:An exclusive morning event hosted by the Atlantic Economic Council about its outlook for 2024\, key indicators to watch\, and how you can best navigate the risks ahead. More Information
URL:https://www.atlanticaenergy.org/event/apec-business-outlook-conference-2023-3/
LOCATION:Hilton Saint John\, Saint John\, NB
CATEGORIES:Public Calendar
END:VEVENT
BEGIN:VEVENT
DTSTART;TZID=UTC:20231107T080000
DTEND;TZID=UTC:20231107T200000
DTSTAMP:20260420T004639
CREATED:20231024T190500Z
LAST-MODIFIED:20231024T190824Z
UID:7727-1699344000-1699387200@www.atlanticaenergy.org
SUMMARY:Association of Energy Engineers Canada East Strategic Transition to Electrification and Emissions Reduction (STEER) 2023
DESCRIPTION:November 7\, 2023\nBest Western\, Dartmouth\, NS \nThe STEER Atlantic conference provides an opportunity to explore strategies to help move the built environment and associated infrastructure towards a zero carbon state; contributing to the transition to a low carbon economy.  More Details.
URL:https://www.atlanticaenergy.org/event/association-of-energy-engineers-canada-east-strategic-transition-to-electrification-and-emissions-reduction-steer-2023/
CATEGORIES:Public Calendar
END:VEVENT
BEGIN:VEVENT
DTSTART;VALUE=DATE:20231102
DTEND;VALUE=DATE:20231103
DTSTAMP:20260420T004639
CREATED:20230111T134731Z
LAST-MODIFIED:20231016T114443Z
UID:6707-1698883200-1698969599@www.atlanticaenergy.org
SUMMARY:Atlantic Business Outlook Conference 2023
DESCRIPTION:An exclusive morning event by the Atlantic Economic Council on it’s our outlook for 2024\, key indicators to watch\, and how you can best navigate the risks ahead. More information
URL:https://www.atlanticaenergy.org/event/apec-business-outlook-conference-2023-2/
LOCATION:MUN/Emera Innovation Exchange (Signal Hill Campus)\, St. John's\, NFLD
CATEGORIES:Public Calendar
END:VEVENT
BEGIN:VEVENT
DTSTART;TZID=UTC:20231101T130000
DTEND;TZID=UTC:20231102T180000
DTSTAMP:20260420T004639
CREATED:20230928T170227Z
LAST-MODIFIED:20230928T170227Z
UID:7670-1698843600-1698948000@www.atlanticaenergy.org
SUMMARY:U.S.- Canada Executive Energy Conference
DESCRIPTION:The NECBC’s U.S.-Canada Executive Energy Conference – held annually in Boston – focuses on all sectors of en­ergy trade and cooperation between the Northeast U.S. and its largest energy partner\, Canada. The forum brings together Canadian and American senior executives\, policy makers\, regulators and energy experts who will provide their perspectives\, share knowledge and explore a wide range of topics. \nJoin us on November 1-2\, 2023 in Boston for our 31st Annual Energy Conference!
URL:https://www.atlanticaenergy.org/event/u-s-canada-executive-energy-conference/
LOCATION:Seaport Hotel\, Boston\, Boston\, MA\, United States
CATEGORIES:Public Calendar
END:VEVENT
BEGIN:VEVENT
DTSTART;VALUE=DATE:20231031
DTEND;VALUE=DATE:20231101
DTSTAMP:20260420T004639
CREATED:20230111T134639Z
LAST-MODIFIED:20230111T135013Z
UID:6705-1698710400-1698796799@www.atlanticaenergy.org
SUMMARY:APEC Business Outlook Conference 2023
DESCRIPTION:An exclusive morning event as APEC shares it’s our outlook for 2024\, key indicators to watch\, and how you can best navigate the risks ahead.
URL:https://www.atlanticaenergy.org/event/apec-business-outlook-conference-2023/
LOCATION:Pier 21\, Halifax\,\, NS\, Canada
CATEGORIES:Public Calendar
END:VEVENT
BEGIN:VEVENT
DTSTART;TZID=UTC:20231030T080000
DTEND;TZID=UTC:20231031T170000
DTSTAMP:20260420T004639
CREATED:20230821T151147Z
LAST-MODIFIED:20230928T170448Z
UID:7556-1698652800-1698771600@www.atlanticaenergy.org
SUMMARY:Energy Innovation Forum 2023
DESCRIPTION:The Smart Grid Innovation Network presents the Energy Innovation Forum 2023 to foster collaboration across the Canadian energy sector and continues to challenge accelerating the pace of change\, and what it takes to unlock smart energy implementation. The forum will introduce attendees to industry experts\, discuss emerging trends\, results from national pilot projects and present a diverse range of initiatives and research that will propel Canada’s decentralized low-carbon energy sector.
URL:https://www.atlanticaenergy.org/event/energy-innovation-forum-2023/
LOCATION:Moncton\, NB
CATEGORIES:Public Calendar
END:VEVENT
BEGIN:VEVENT
DTSTART;TZID=UTC:20231026T120000
DTEND;TZID=UTC:20231026T140000
DTSTAMP:20260420T004639
CREATED:20230828T164627Z
LAST-MODIFIED:20230828T164627Z
UID:7572-1698321600-1698328800@www.atlanticaenergy.org
SUMMARY:Luncheon with the International Energy Agency
DESCRIPTION:Net Zero Atlantic is hosting a networking luncheon with featured speakers from the International Energy Agency (IEA). The IEA will discuss the findings of the “Energy Technology Perspectives” report. More details.
URL:https://www.atlanticaenergy.org/event/luncheon-with-the-international-energy-agency/
LOCATION:Pier 21\, Halifax\,\, NS\, Canada
CATEGORIES:Public Calendar
END:VEVENT
BEGIN:VEVENT
DTSTART;TZID=UTC:20231026T110000
DTEND;TZID=UTC:20231026T130000
DTSTAMP:20260420T004639
CREATED:20230228T152641Z
LAST-MODIFIED:20230825T143746Z
UID:7078-1698318000-1698325200@www.atlanticaenergy.org
SUMMARY:October Board Meeting
DESCRIPTION:TIME: 11:00 am – 1:00 pm \nLOCATION: ACOA New Brunswick Head Office\, Blue Cross Building\, Main Street\, Moncton\, NB \nSPEAKER/TOPIC: ACOA Federal and Regional Priorities \nVIRTUAL TEAMS LINK: Click here to join the meeting
URL:https://www.atlanticaenergy.org/event/october-board-meeting/
LOCATION:Eastward Energy Offices\, Halifax\, NS
CATEGORIES:Member Calendar
END:VEVENT
BEGIN:VEVENT
DTSTART;TZID=UTC:20231024T160000
DTEND;TZID=UTC:20231026T170000
DTSTAMP:20260420T004639
CREATED:20230821T151031Z
LAST-MODIFIED:20231016T114114Z
UID:7553-1698163200-1698339600@www.atlanticaenergy.org
SUMMARY:2nd Annual Indigenous-Led Energy Symposium
DESCRIPTION:The North Shore Mi’kmaq Tribal Council’s 2nd Annual Indigenous-Led Energy Symposium will bring together leaders from First Nation communities\, utilities\, government and industry for two days of conversation and collaboration on “The 3 Horizons of Opportunities” as it relates to energy sector initiatives with 2030\, 2035 and 2050 decarbonization plans.
URL:https://www.atlanticaenergy.org/event/2nd-annual-indigenous-led-energy-symposium/
LOCATION:Crown Plaza Moncton
CATEGORIES:Public Calendar
END:VEVENT
BEGIN:VEVENT
DTSTART;VALUE=DATE:20231024
DTEND;VALUE=DATE:20231112
DTSTAMP:20260420T004639
CREATED:20231024T190431Z
LAST-MODIFIED:20231024T190431Z
UID:7725-1698105600-1699747199@www.atlanticaenergy.org
SUMMARY:Regional Assessment of Offshore Wind Development in Nova Scotia
DESCRIPTION:October & November\nIn person\, Public Information Sessions in various locations around the Maritimes.\nLearn more about the Regional Assessment\, get answers to your questions\, and share your thoughts. Refreshments will be served. More details.
URL:https://www.atlanticaenergy.org/event/regional-assessment-of-offshore-wind-development-in-nova-scotia/
CATEGORIES:Public Calendar
END:VEVENT
BEGIN:VEVENT
DTSTART;TZID=UTC:20231019T130000
DTEND;TZID=UTC:20231019T140000
DTSTAMP:20260420T004639
CREATED:20230828T164535Z
LAST-MODIFIED:20230828T164535Z
UID:7570-1697720400-1697724000@www.atlanticaenergy.org
SUMMARY:FoCCUSing on the Future: Carbon Capture\, Utilization\, and Storage
DESCRIPTION:CO2 Capture\, Utilization\, and Sequestration (CCUS) is a collection of technologies that could play an essential role in meeting our growing energy demands and increasingly urgent climate goals. This presentation will briefly review CCUS – what is it\, where can we do it\, how does it work\, and why it matters. More details.
URL:https://www.atlanticaenergy.org/event/foccusing-on-the-future-carbon-capture-utilization-and-storage/
LOCATION:Webinar
CATEGORIES:Public Calendar
END:VEVENT
BEGIN:VEVENT
DTSTART;TZID=UTC:20231012T140000
DTEND;TZID=UTC:20231012T150000
DTSTAMP:20260420T004639
CREATED:20230928T165837Z
LAST-MODIFIED:20230928T165837Z
UID:7668-1697119200-1697122800@www.atlanticaenergy.org
SUMMARY:Ask an Expert about Offshore Wind
DESCRIPTION:Curious to know more about offshore wind in Canada – how it’s going to happen\, who’s involved\, what’s at stake\, and how it will affect your business\, industry or community? Drawing upon lessons learned from mature markets globally\, Ask an Expert will connect anyone interested in offshore wind with leading experts in areas like development\, operations\, technologies\, environmental effects\, and more. Together\, we’ll get a clearer picture of how Canada’s offshore wind industry will look by discussing key topics using the best available and latest science. \nTogether with Marine Renewables Canada\,  Pacific Northwest National Laboratory (PNNL) Research Engineer\, Mark Severy will discuss offshore wind technology basics and best practices to address some of the challenges with deploying offshore wind at a commercial scale.
URL:https://www.atlanticaenergy.org/event/ask-an-expert-about-offshore-wind/
LOCATION:Webinar
CATEGORIES:Public Calendar
END:VEVENT
BEGIN:VEVENT
DTSTART;TZID=UTC:20231011T080000
DTEND;TZID=UTC:20231011T170000
DTSTAMP:20260420T004639
CREATED:20230929T142552Z
LAST-MODIFIED:20230929T142552Z
UID:7689-1697011200-1697043600@www.atlanticaenergy.org
SUMMARY:Public Summit: A Focus on New Brunswick Energy Plan
DESCRIPTION:Community of Creative Citizens is hosting an event with energy leaders from across New Brunswick to explore the opportunities and challenges with developing a sustainable and innovative energy plan for the province.
URL:https://www.atlanticaenergy.org/event/public-summit-a-focus-on-new-brunswick-energy-plan-2/
LOCATION:Fredericton Convention Centre
CATEGORIES:Public Calendar
END:VEVENT
BEGIN:VEVENT
DTSTART;TZID=UTC:20231004T073000
DTEND;TZID=UTC:20231004T093000
DTSTAMP:20260420T004639
CREATED:20230828T164430Z
LAST-MODIFIED:20230828T164430Z
UID:7568-1696404600-1696411800@www.atlanticaenergy.org
SUMMARY:Transitioning to a Clean Energy Future
DESCRIPTION:Net Zero Atlantic Breakfast Series features a conversation with senior leaders at Nova Scotia Power and in the energy industry about the transition to a clean energy future. More details.
URL:https://www.atlanticaenergy.org/event/transitioning-to-a-clean-energy-future/
CATEGORIES:Public Calendar
END:VEVENT
BEGIN:VEVENT
DTSTART;TZID=UTC:20230928T110000
DTEND;TZID=UTC:20230928T130000
DTSTAMP:20260420T004639
CREATED:20230228T152333Z
LAST-MODIFIED:20230825T145917Z
UID:7076-1695898800-1695906000@www.atlanticaenergy.org
SUMMARY:September Board Meeting
DESCRIPTION:TIME: 11:00 am – 1:00 pm \nLOCATION: Envision Saint John\, 1 Germain Street\, Saint John NB \nSPEAKER/TOPIC: TBC \nVIRTUAL TEAMS LINK: Click here to join the meeting
URL:https://www.atlanticaenergy.org/event/september-board-meeting/
LOCATION:TBC
CATEGORIES:Member Calendar
END:VEVENT
BEGIN:VEVENT
DTSTART;VALUE=DATE:20230921
DTEND;VALUE=DATE:20230923
DTSTAMP:20260420T004639
CREATED:20230821T150627Z
LAST-MODIFIED:20230821T150816Z
UID:7551-1695254400-1695427199@www.atlanticaenergy.org
SUMMARY:Oromocto Climate Action Conference
DESCRIPTION:The Town of Oromocto Climate Action Committee presents the inaugural Climate Action Conference at the Hazen Centre from 8:30 – 4:30pm on Sept 21st and until noon on the 22nd. The conference will focus on “Carbon Emissions Solutions” featuring workshops and exhibitions highlighting the use and development of clean energy\, electric vehicles and machinery and other green technology. Registration is now open.
URL:https://www.atlanticaenergy.org/event/oromocto-climate-action-conference/
CATEGORIES:Public Calendar
END:VEVENT
BEGIN:VEVENT
DTSTART;TZID=UTC:20230919T173000
DTEND;TZID=UTC:20230919T193000
DTSTAMP:20260420T004639
CREATED:20230908T131924Z
LAST-MODIFIED:20230908T131924Z
UID:7621-1695144600-1695151800@www.atlanticaenergy.org
SUMMARY:Women in Energy Networking Event
DESCRIPTION:Are you a woman working or interested in the energy sector? Do you want to hear from inspiring women leaders who have made a difference in this field? Do you want to network with other like-minded people and learn more about the opportunities and challenges in the energy sector? \nIf you answered yes to any of these questions\, then you don’t want to miss the Women in Renewable Energy (WiRE)\, Women in Nuclear (WiN)\, and Women in Energy (WiE) Networking Event happening at the Union Club in New Brunswick on September 19\, 2023 from 5:50 pm to 7:30 pm MDT. This event is organized by WiRE\, WiN\, and WiE\, three non-profit organizations that promote the advancement and inclusion of women in the energy sector. \nBy attending this event\, you will: \n\nLearn from the experiences and perspectives of two accomplished women leaders in the energy sector; Laurie Fraser and Amanda Rivers.\n\n\nConnect with the featured speakers and other women who share your passion and interest in energy.\n\n\nDiscover new opportunities and resources to advance your career and education in energy.\n\n\nBecome part of a supportive and empowering community of women in energy.\n\nDon’t miss this opportunity to join us for an evening of inspiration\, education\, and connection! \nRegister now at and secure your spot. We look forward to seeing you there!
URL:https://www.atlanticaenergy.org/event/women-in-energy-networking-event/
LOCATION:Union Club\, Germain Street\, Saint John\, NB
CATEGORIES:Public Calendar
END:VEVENT
BEGIN:VEVENT
DTSTART;TZID=UTC:20230824T110000
DTEND;TZID=UTC:20230824T130000
DTSTAMP:20260420T004639
CREATED:20230228T151933Z
LAST-MODIFIED:20230427T203023Z
UID:7071-1692874800-1692882000@www.atlanticaenergy.org
SUMMARY:August Board Meeting
DESCRIPTION:TIME: 11:00 am – 1:00 pm \nLOCATION: (Proposed) Saint John Energy\, 375 Simms Street\, Saint John\, NB \nSPEAKER/TOPIC: Wind Update (Tour of Burchill Wind Farm) \nVIRTUAL TEAMS LINK: Click here to join the meeting
URL:https://www.atlanticaenergy.org/event/august-board-meeting/
LOCATION:Saint John Energy\, 375 Simms Street\, Saint John\, NB
CATEGORIES:Member Calendar
END:VEVENT
BEGIN:VEVENT
DTSTART;VALUE=DATE:20230613
DTEND;VALUE=DATE:20230614
DTSTAMP:20260420T004639
CREATED:20230111T134107Z
LAST-MODIFIED:20230111T134228Z
UID:6699-1686614400-1686700799@www.atlanticaenergy.org
SUMMARY:APEC Major Projects Event
DESCRIPTION:Capital Investment Projects for Atlantic Canada.
URL:https://www.atlanticaenergy.org/event/apec-major-projects-event-2/
LOCATION:MUN/Emera Innovation Exchange (Signal Hill Campus)\, St. John's\, NFLD
CATEGORIES:Public Calendar
END:VEVENT
BEGIN:VEVENT
DTSTART;TZID=UTC:20230608T080000
DTEND;TZID=UTC:20230609T170000
DTSTAMP:20260420T004639
CREATED:20230428T105921Z
LAST-MODIFIED:20230428T105936Z
UID:7345-1686211200-1686330000@www.atlanticaenergy.org
SUMMARY:Atlantica Energy Summit & Board Retreat
DESCRIPTION:Prince Edward Island and the PEI Energy Corporation welcomes you to the Rodd Crowbush Golf and Beach resort for the first annual Atlantica Energy Summit\, an opportunity for proactive discussion on the energy sector hosted by the Atlantica Centre for Energy.  \nPROGRAM SYNOPSIS\nThursday June 8\n9:00 am\nPEI Energy Innovation Tour (Optional\, pre-registration required) \n12:30 pm\nArrival & Networking Luncheon  \n2:00 pm\nBoard Meeting (Members-Only) \n3:00 pm\nOfficial Program  \n\nElectrification and the Path to Net-Zero Grid by 2035 – What it means for Atlantic Canada\nFrancis Bradley\, President and CEO\, Electricity Canada\nEnergy Innovation Best Practices \nPanel Discussion\n\n6:30 pm\nReception and Dinner  \n\nWelcome: Honorable Denis King\, Premier\, Prince Edward Island (invited)\nKeynote: Making Sense of the Energy Transition: Geopolitics\, Economics and Opportunities\nHon. Lisa Raitt\, Vice-Chair of Global Investment Banking at CIBC\, Former Federal Minister of Transport\, Labour and Natural Resources\n\nFriday\, June 9 \n9:00 am\nAtlantic Canada’s Energy Transition\nDavid Hay\, Managing Director of Delgatie Incorporated\, former Vice-Chair and Managing Director of CIBC World Markets Inc.\, and former President and CEO of New Brunswick Power Corporation. \n10:30 am\nProvincial Energy Priorities Moderated Discussion \n\nSteven Myers\, Minister of Energy and Climate Action\, Prince Edward Island\nMike Holland\, Minister of Natural Resources and Energy Development\, New Brunswick\nTory Rushton\, Minister of Resources and Renewables\, Nova Scotia\nAndrew Parsons\, Minister of Industry\, Energy & Technology\, Newfoundland and Labrador (invited)\n\n12:00 pm\nKeynote Luncheon: Economic Reconciliation – Entering The New Paradigm Of Indigenous Relations\nJason Rasevych\, Partner\, National Indigenous Client Services Lead\, Deloitte \n1:00 pm\nTopic Briefs & Interactive Dialogue: Nuclear\, Hydrogen\, Renewables\, Oil & Gas (RNG\, LNG\, Natural Gas)\nSummary of Action Items: David Campbell \n3:30 pm\nClosing Remarks 
URL:https://www.atlanticaenergy.org/event/atlantica-energy-summit-board-retreat/
LOCATION:Rodd Crowbush Golf and Beach Resort\, Morell\, PEI
CATEGORIES:Member Calendar
END:VEVENT
BEGIN:VEVENT
DTSTART;VALUE=DATE:20230606
DTEND;VALUE=DATE:20230607
DTSTAMP:20260420T004639
CREATED:20230111T133703Z
LAST-MODIFIED:20230111T134245Z
UID:6693-1686009600-1686095999@www.atlanticaenergy.org
SUMMARY:APEC Major Projects Event
DESCRIPTION:Capital Investment Projects for Atlantic Canada.
URL:https://www.atlanticaenergy.org/event/apec-major-projects-event/
LOCATION:Pier 21\, Halifax\,\, NS\, Canada
CATEGORIES:Public Calendar
END:VEVENT
BEGIN:VEVENT
DTSTART;TZID=UTC:20230525T110000
DTEND;TZID=UTC:20230525T130000
DTSTAMP:20260420T004639
CREATED:20230228T150643Z
LAST-MODIFIED:20230519T162018Z
UID:7066-1685012400-1685019600@www.atlanticaenergy.org
SUMMARY:May Board Meeting
DESCRIPTION:TIME: 11:00 am – 1:00 pm \nLOCATION: NB Power Head Office\, 515 King Street P.O. Box 2000. Fredericton\, NB E3B 4X1 \nSPEAKER/TOPIC: New Brunswick Update \nVIRTUAL TEAMS LINK: Click here to join the meeting
URL:https://www.atlanticaenergy.org/event/may-board-meeting/
LOCATION:NB Power Head Office\, 515 King Street\, Fredericton\, NB\, E3B 4X1\, Canada
CATEGORIES:Member Calendar
END:VEVENT
BEGIN:VEVENT
DTSTART;TZID=UTC:20230524T080000
DTEND;TZID=UTC:20230525T170000
DTSTAMP:20260420T004639
CREATED:20230329T124936Z
LAST-MODIFIED:20230329T231342Z
UID:7225-1684915200-1685034000@www.atlanticaenergy.org
SUMMARY:Energizing Efficiency
DESCRIPTION:This event will feature more than 20 sessions and two keynotes over two days discussing the topics of energy efficiency\, energy management and carbon reduction. The conference will share best practices\, case studies\, innovative techniques and energy solutions\, while enhancing the conversation with content and resources from well-respected speakers in the areas of clean energy\, transportation\, energy efficiency\, building systems\, community planning and policy. More details
URL:https://www.atlanticaenergy.org/event/energizing-efficiency/
LOCATION:Fredericton Convention Centre
CATEGORIES:Member Calendar,Public Calendar
END:VEVENT
BEGIN:VEVENT
DTSTART;TZID=UTC:20230510T080000
DTEND;TZID=UTC:20230510T170000
DTSTAMP:20260420T004639
CREATED:20230428T144609Z
LAST-MODIFIED:20230428T144609Z
UID:7351-1683705600-1683738000@www.atlanticaenergy.org
SUMMARY:Nova Scotia Offshore Wind Supplier Session
DESCRIPTION:Engage with developers and learn about the pipeline of opportunities as Nova Scotia moves towards the transformation of the electricity sector to renewable energy. \nRegister by May 3rd by emailing: NRRevents@novascotia.ca.  \nPlease indicate if you will attend in person in Halifax (Convention Centre) or virtually. 
URL:https://www.atlanticaenergy.org/event/nova-scotia-offshore-wind-supplier-session/
LOCATION:In Person or Virtually
END:VEVENT
BEGIN:VEVENT
DTSTART;TZID=UTC:20230427T110000
DTEND;TZID=UTC:20230427T130000
DTSTAMP:20260420T004639
CREATED:20230228T150458Z
LAST-MODIFIED:20230427T203319Z
UID:7063-1682593200-1682600400@www.atlanticaenergy.org
SUMMARY:April Board Meeting
DESCRIPTION:TIME: 11:00 am – 1:00 pm \nLOCATION: JD Irving Head Office\, 300 Union Street\, Saint John\, NB \nSPEAKER/TOPIC: TBC \nVIRTUAL TEAMS LINK: Click here to join the meeting
URL:https://www.atlanticaenergy.org/event/april-board-meeting/
LOCATION:300 Union Street\, Saint John\, NB
CATEGORIES:Member Calendar
END:VEVENT
END:VCALENDAR